BEGIN:VCALENDAR
VERSION:2.0
PRODID:-//Wylie Community Band - ECPv6.15.20//NONSGML v1.0//EN
CALSCALE:GREGORIAN
METHOD:PUBLISH
X-WR-CALNAME:Wylie Community Band
X-ORIGINAL-URL:https://wyliecb.org
X-WR-CALDESC:Events for Wylie Community Band
REFRESH-INTERVAL;VALUE=DURATION:PT1H
X-Robots-Tag:noindex
X-PUBLISHED-TTL:PT1H
BEGIN:VTIMEZONE
TZID:America/Chicago
BEGIN:DAYLIGHT
TZOFFSETFROM:-0600
TZOFFSETTO:-0500
TZNAME:CDT
DTSTART:20240310T080000
END:DAYLIGHT
BEGIN:STANDARD
TZOFFSETFROM:-0500
TZOFFSETTO:-0600
TZNAME:CST
DTSTART:20241103T070000
END:STANDARD
BEGIN:DAYLIGHT
TZOFFSETFROM:-0600
TZOFFSETTO:-0500
TZNAME:CDT
DTSTART:20250309T080000
END:DAYLIGHT
BEGIN:STANDARD
TZOFFSETFROM:-0500
TZOFFSETTO:-0600
TZNAME:CST
DTSTART:20251102T070000
END:STANDARD
BEGIN:DAYLIGHT
TZOFFSETFROM:-0600
TZOFFSETTO:-0500
TZNAME:CDT
DTSTART:20260308T080000
END:DAYLIGHT
BEGIN:STANDARD
TZOFFSETFROM:-0500
TZOFFSETTO:-0600
TZNAME:CST
DTSTART:20261101T070000
END:STANDARD
BEGIN:DAYLIGHT
TZOFFSETFROM:-0600
TZOFFSETTO:-0500
TZNAME:CDT
DTSTART:20270314T080000
END:DAYLIGHT
BEGIN:STANDARD
TZOFFSETFROM:-0500
TZOFFSETTO:-0600
TZNAME:CST
DTSTART:20271107T070000
END:STANDARD
END:VTIMEZONE
BEGIN:VEVENT
DTSTART;TZID=America/Chicago:20251026T140000
DTEND;TZID=America/Chicago:20251026T153000
DTSTAMP:20260419T192056
CREATED:20250830T230241Z
LAST-MODIFIED:20250830T230241Z
UID:2293-1761487200-1761492600@wyliecb.org
SUMMARY:Wylie Community Band Fall Concert 2025
DESCRIPTION:Movie Magic\nFree Fall Concert – Sunday October 26th\, 2pm\nWylie High School\nFeaturing music from your favorite movie classics\, including Jurassic Park\, Far and Away\, The Cowboys\, March from 1941\, Harry Potter\, Midway March\, Star Wars\, Phantom of the Opera\, and the Lion King
URL:https://wyliecb.org/event/wylie-community-band-fall-concert-2025/
LOCATION:Wylie High School\, 2550 FM 544\, Wylie\, TX\, 75098\, United States
ORGANIZER;CN="Wylie Community Band":MAILTO:admin@wyliecb.org
END:VEVENT
BEGIN:VEVENT
DTSTART;TZID=America/Chicago:20251206T000000
DTEND;TZID=America/Chicago:20251206T235959
DTSTAMP:20260419T192056
CREATED:20250904T030327Z
LAST-MODIFIED:20250904T030327Z
UID:2303-1764979200-1765065599@wyliecb.org
SUMMARY:Wylie Community Band Ensembles at Wylie's Historic Brown House
DESCRIPTION:Come listen to various Wylie Community Band Ensembles play holiday music while browsing the outdoor holiday market at the Historic Victorian Brown House in downtown Wylie Texas.
URL:https://wyliecb.org/event/wylie-community-band-ensembles-at-wylies-historic-brown-house/
LOCATION:Historic Brown House\, 301 North Ballard Ave\, Wylie\, TX\, 75098\, United States
ORGANIZER;CN="Wylie Community Band":MAILTO:admin@wyliecb.org
END:VEVENT
BEGIN:VEVENT
DTSTART;TZID=America/Chicago:20251207T140000
DTEND;TZID=America/Chicago:20251207T153000
DTSTAMP:20260419T192056
CREATED:20250904T030522Z
LAST-MODIFIED:20250916T180009Z
UID:2306-1765116000-1765121400@wyliecb.org
SUMMARY:WCB Christmas Concert
DESCRIPTION:Come join us for a jolly good time (for free)\, as we play holiday classics. \nRussian Christmas Music\nSussex Murmer Carol\nBugler’s Holiday for Tubas\nA Winter’s Night\nBlue Bells at Christmas Time\nFantasy on a Bell Carol\nMightnight Sleighride \nYou’ll be laughing all the way!
URL:https://wyliecb.org/event/wcb-christmas-concert/
LOCATION:Wylie High School\, 2550 FM 544\, Wylie\, TX\, 75098\, United States
END:VEVENT
BEGIN:VEVENT
DTSTART;TZID=America/Chicago:20251210T180000
DTEND;TZID=America/Chicago:20251210T193000
DTSTAMP:20260419T192056
CREATED:20250904T030757Z
LAST-MODIFIED:20250904T030757Z
UID:2308-1765389600-1765395000@wyliecb.org
SUMMARY:WCB at Retreat at Wylie
DESCRIPTION:
URL:https://wyliecb.org/event/wcb-at-retreat-at-wylie/
LOCATION:Retreat at Wylie\, 300 McCreary Rd\, Wylie\, TX\, 75098\, United States
END:VEVENT
BEGIN:VEVENT
DTSTART;TZID=America/Chicago:20260307T080000
DTEND;TZID=America/Chicago:20260307T150000
DTSTAMP:20260419T192056
CREATED:20250901T163754Z
LAST-MODIFIED:20260204T153320Z
UID:2299-1772870400-1772895600@wyliecb.org
SUMMARY:Wylie at the Meyerson 2026
DESCRIPTION:The Wylie Community Band\nWylie ISD Bands\, Choirs & Orchestras\nMorton Meyerson Symphony Center\nSaturday\, March 7 2026\n$5 at the door\n10:00am – Wylie Community Band on Stage with the Children’s Choir\n11:30am – Wylie Community Jazz Big Band in the Lobby
URL:https://wyliecb.org/event/wylie-at-the-meyerson-2026/
LOCATION:Morton H. Meyerson Symphony Center\, 2301 Flora St.\, Dallas\, 75201\, United States
ORGANIZER;CN="Wylie Community Band":MAILTO:admin@wyliecb.org
END:VEVENT
BEGIN:VEVENT
DTSTART;TZID=America/Chicago:20260628T140000
DTEND;TZID=America/Chicago:20260628T160000
DTSTAMP:20260419T192056
CREATED:20260407T163645Z
LAST-MODIFIED:20260407T163645Z
UID:3452-1782655200-1782662400@wyliecb.org
SUMMARY:Wylie Community Band Concert
DESCRIPTION:Wylie Community Band Concert \nWylie East High School\nJune 28\, 2026\n2:00 pm \nMore details soon!
URL:https://wyliecb.org/event/wylie-community-band-concert-4/
LOCATION:Wylie East High School\, 3000 Wylie E Dr.\, Wylie\, TX\, 75098\, United States
ORGANIZER;CN="Wylie Community Band":MAILTO:admin@wyliecb.org
END:VEVENT
END:VCALENDAR